BEGIN:VCALENDAR
VERSION:2.0
PRODID:-//To Love and Play - ECPv6.15.20//NONSGML v1.0//EN
CALSCALE:GREGORIAN
METHOD:PUBLISH
X-WR-CALNAME:To Love and Play
X-ORIGINAL-URL:https://toloveandplay.com
X-WR-CALDESC:Events for To Love and Play
REFRESH-INTERVAL;VALUE=DURATION:PT1H
X-Robots-Tag:noindex
X-PUBLISHED-TTL:PT1H
BEGIN:VTIMEZONE
TZID:America/New_York
BEGIN:DAYLIGHT
TZOFFSETFROM:-0500
TZOFFSETTO:-0400
TZNAME:EDT
DTSTART:20240310T070000
END:DAYLIGHT
BEGIN:STANDARD
TZOFFSETFROM:-0400
TZOFFSETTO:-0500
TZNAME:EST
DTSTART:20241103T060000
END:STANDARD
BEGIN:DAYLIGHT
TZOFFSETFROM:-0500
TZOFFSETTO:-0400
TZNAME:EDT
DTSTART:20250309T070000
END:DAYLIGHT
BEGIN:STANDARD
TZOFFSETFROM:-0400
TZOFFSETTO:-0500
TZNAME:EST
DTSTART:20251102T060000
END:STANDARD
BEGIN:DAYLIGHT
TZOFFSETFROM:-0500
TZOFFSETTO:-0400
TZNAME:EDT
DTSTART:20260308T070000
END:DAYLIGHT
BEGIN:STANDARD
TZOFFSETFROM:-0400
TZOFFSETTO:-0500
TZNAME:EST
DTSTART:20261101T060000
END:STANDARD
BEGIN:DAYLIGHT
TZOFFSETFROM:-0500
TZOFFSETTO:-0400
TZNAME:EDT
DTSTART:20270314T070000
END:DAYLIGHT
BEGIN:STANDARD
TZOFFSETFROM:-0400
TZOFFSETTO:-0500
TZNAME:EST
DTSTART:20271107T060000
END:STANDARD
END:VTIMEZONE
BEGIN:VTIMEZONE
TZID:UTC
BEGIN:STANDARD
TZOFFSETFROM:+0000
TZOFFSETTO:+0000
TZNAME:UTC
DTSTART:20230101T000000
END:STANDARD
END:VTIMEZONE
BEGIN:VEVENT
DTSTART;TZID=America/New_York:20260417T180000
DTEND;TZID=America/New_York:20260417T200000
DTSTAMP:20260423T133059
CREATED:20260413T184924Z
LAST-MODIFIED:20260413T184924Z
UID:939-1776448800-1776456000@toloveandplay.com
SUMMARY:The Black Pansy Library - At Fallout RVA
DESCRIPTION:The Black Pansy Library is a collection of books\, magazines zines\, articles\, and writings focused on kink\, leather\, sex work\, sexuality\, gender\, and the history of these minority groups. \nSubjects are primarily nonfiction and range from educational materials\, in depth guides\, DIY\, anthologies\, essays\, history\, comics\, photography\, and more. \nThe library is privately owned by Orion Verse and currently hosted in Richmond\, VA. This will be a pop up where community members will be welcome to look through\, read\, and borrow selections of the books.
URL:https://toloveandplay.com/event/the-black-pansy-library-at-fallout-rva-2/
LOCATION:Fallout RVA\, 117 North 18th Street\, Richmond\, VA\, United States
ATTACH;FMTTYPE=image/png:https://toloveandplay.com/wp-content/uploads/2025/08/28.png
END:VEVENT
BEGIN:VEVENT
DTSTART;TZID=America/New_York:20260221T100000
DTEND;TZID=America/New_York:20260222T220000
DTSTAMP:20260423T133059
CREATED:20251105T220538Z
LAST-MODIFIED:20251105T220538Z
UID:917-1771668000-1771797600@toloveandplay.com
SUMMARY:Reign of Pain 2026 - ChemicalPlay
DESCRIPTION:Link: https://fetlife.com/events/1839826\nReign of Pain 2026\nReign of Pain returns for its second year\, bigger and more diabolical than before. This virtual event brings together some of the most passionate kink educators\, sadomasochists and pain play lovers of all intensity preferences\, and edge/higher risk accepting players from around the world for a weekend of education\, exploration\, and connection. \nReign of Pain is designed for those who crave intensity or exploration through S&M\, “dark” themes and play\, “edge play” or higher risk play\, and other related areas. But don’t let imposter syndrome tell you that you don’t belong. Kinksters of all experience levels\, intensity preferences\, and from all backgrounds can find a home (and wickedly delightful inspiration) here. \nOrionVerse will be teaching ChemicalPlay\nWhat do ginger\, soap\, mint and peppers all have in common? The capacity to use these and more to illicit anything from a gentle sensual experience to a whole new realm of torture. Join us as we go over the different substances you can use\, where you can use them and the safety considerations to keep in mind when starting out your chemical filled adventure.
URL:https://toloveandplay.com/event/reign-of-pain-2026-chemicalplay/
LOCATION:Online
ATTACH;FMTTYPE=image/png:https://toloveandplay.com/wp-content/uploads/2025/11/OrionVerse.png
END:VEVENT
BEGIN:VEVENT
DTSTART;TZID=America/New_York:20251115T120000
DTEND;TZID=America/New_York:20251116T020000
DTSTAMP:20260423T133059
CREATED:20251008T170853Z
LAST-MODIFIED:20251008T170853Z
UID:909-1763208000-1763258400@toloveandplay.com
SUMMARY:PUSH Durham
DESCRIPTION:I’ll be at PUSH Durham teaching – \nQueer Bodies and Negotiating Intro + Discussion\nWhen you are Queer or Trans\, nothing can make you completely lose space in a scene faster than having your gender identity or body engaged with in a way that feels disrespectful or gross\, even if you know the person has no bad intentions and is perhaps just misinformed.\nThis educational focuses heavily on negotiations as a queer person or when playing with queer people\, how to talk about consent around bodies\, touch\, negotiating words being used\, and how to help someone feel validated and comfortable within a scene as well as how to proceed if a mistake is made\nCo-Presenter Ally Brinken \nTime TBD\nMore information Here (Website)   And Here (Fetlife)
URL:https://toloveandplay.com/event/push-durham/
LOCATION:the Fruit and Club ERA\, 305 South Dillard Street\, Durham\, NC\, 27701\, United States
ATTACH;FMTTYPE=image/png:https://toloveandplay.com/wp-content/uploads/2025/10/PUSH-image.png
END:VEVENT
BEGIN:VEVENT
DTSTART;TZID=America/New_York:20251030T193000
DTEND;TZID=America/New_York:20251030T210000
DTSTAMP:20260423T133059
CREATED:20250825T191256Z
LAST-MODIFIED:20251003T212859Z
UID:891-1761852600-1761858000@toloveandplay.com
SUMMARY:The Black Pansy Library - At Fallout RVA
DESCRIPTION:The Black Pansy Library is a collection of books\, magazines zines\, articles\, and writings focused on kink\, leather\, sex work\, sexuality\, gender\, and the history of these minority groups. \nSubjects are primarily nonfiction and range from educational materials\, in depth guides\, DIY\, anthologies\, essays\, history\, comics\, photography\, and more. \nThe library is privately owned by Orion Verse and currently hosted in Richmond\, VA. This will be a pop up where community members will be welcome to look through\, read\, and borrow selections of the books.
URL:https://toloveandplay.com/event/the-black-pansy-library-at-fallout-rva/
LOCATION:Fallout RVA\, 117 North 18th Street\, Richmond\, VA\, United States
ATTACH;FMTTYPE=image/png:https://toloveandplay.com/wp-content/uploads/2025/08/28.png
END:VEVENT
BEGIN:VEVENT
DTSTART;TZID=America/New_York:20251016T080000
DTEND;TZID=America/New_York:20251020T170000
DTSTAMP:20260423T133059
CREATED:20250630T185502Z
LAST-MODIFIED:20250630T185502Z
UID:795-1760601600-1760979600@toloveandplay.com
SUMMARY:Alchemy Burn 2025 with FAFO
DESCRIPTION:Alchemy  Burn is a regional burn west of Atlanta\, GA. A burn is a gathering\, a “temporary autonomous zone\,” a place of art and music and costumes and food and drink. I will be hosting events and handing out free zines.
URL:https://toloveandplay.com/event/alchemy-burn-2025-with-fafo/
ATTACH;FMTTYPE=image/jpeg:https://toloveandplay.com/wp-content/uploads/2025/06/505755598_1024547816453159_7456917959316283930_n.jpg
END:VEVENT
BEGIN:VEVENT
DTSTART;TZID=America/New_York:20251011T100000
DTEND;TZID=America/New_York:20251011T163000
DTSTAMP:20260423T133059
CREATED:20251003T212608Z
LAST-MODIFIED:20251003T212608Z
UID:902-1760176800-1760200200@toloveandplay.com
SUMMARY:Richmond Zine Fest Tabling
DESCRIPTION:I’ll be at Richmond Zine Fest tabling with my zines and prints\, come say hello and check out a bunch of other talented Zine makers! \nRichmond Zine Fest is a two-day event. On day one\, Friday October 10th from 12 PM – 5 PM (note: this is has been changed since the printing of the poster) is ONLY programming aka workshops\, presentations\, dialogues\, and opportunities to learn something new. The programs are held in the basement of the library. \nDay two is Saturday\, October 11th from 10 AM – 4:30 PM\, and this is the big vendor day that is recognizably “zine fest” to the average attendee. We take over multiple spaces on the first floor and the basement levels of the library with exhibitors that have produced zines for purchase and/or trade. Please see our section on zine fest etiquette for tips about how to engage with tablers and what is inappropriate. \nMasks are required for all participants in Richmond Zine Fest.
URL:https://toloveandplay.com/event/richmond-zine-fest-tabling/
LOCATION:101 E Franklin St\, 101 E Franklin St\, Richmond\, VA\, 23219\, United States
ATTACH;FMTTYPE=image/jpeg:https://toloveandplay.com/wp-content/uploads/2025/10/richmondzinefest25digital1-scaled.jpg
END:VEVENT
BEGIN:VEVENT
DTSTART;TZID=America/New_York:20250913T190000
DTEND;TZID=America/New_York:20250913T210000
DTSTAMP:20260423T133059
CREATED:20250630T185131Z
LAST-MODIFIED:20250630T185131Z
UID:792-1757790000-1757797200@toloveandplay.com
SUMMARY:Let it Reign - Substance and Play Virtual and Recorded Class
DESCRIPTION:Fetlife Link – https://fetlife.com/events/1803158 \nTicket Link – https://events.humanitix.com/substances-and-play/tickets \nContent Warning: Drug use\, nuanced and non-consent\, medical information/terminology\, addiction\, harm\, and discussions of theoretical violence. \nWe all hear on repeat\, don’t mix substances with play because it is dangerous. This class goes over exactly Why it is dangerous\, what the risk profile looks like on common substances\, and what ways we can mitigate risk and navigate consent if you do choose to mix the two. This is a safety\, information\, and risk mitigation oriented class. This class does Not condone or encourage the mixture of intoxication and play but rather evaluates the potential risks and dangers. \nIn this class we will be going over the following –\n★ Why people may mix substances and play\n★ Why is it is generally considered high risk to do so\n★ A variety of substances and medications\, why people do them\, and the\nmajor risks associated with them individually pertaining to overlap with kink and consent\n★ Risk considerations and approaches if you do intend to mix substances and play \nWhat this will not go over –\n★ Nuances of every particular substance\n★ Harm reduction training or overdose response\n★ Safe substance combinations\n★ Demonizing substance users \nThe presenter does provide links to outside resources that people can learn more about on their own for the subjects that the material is not focused on. \nAdditionally\, everyone who participates in the class (either live or download) will receive a link to a hidden webpage with the information as well as a PDF copy of a zine with the same information to keep with them. The webpage is not available to the general public without the link for this class specifically.
URL:https://toloveandplay.com/event/let-it-reign-substance-and-play-virtual-and-recorded-class/
ATTACH;FMTTYPE=image/png:https://toloveandplay.com/wp-content/uploads/2025/06/OV-LR-Image.png
END:VEVENT
BEGIN:VEVENT
DTSTART;TZID=America/New_York:20250910T193000
DTEND;TZID=America/New_York:20250910T210000
DTSTAMP:20260423T133059
CREATED:20250825T191208Z
LAST-MODIFIED:20250825T191208Z
UID:889-1757532600-1757538000@toloveandplay.com
SUMMARY:The Black Pansy Library - At RQK RVA
DESCRIPTION:The Black Pansy Library is a collection of books\, magazines zines\, articles\, and writings focused on kink\, leather\, sex work\, sexuality\, gender\, and the history of these minority groups. \nSubjects are primarily nonfiction and range from educational materials\, in depth guides\, DIY\, anthologies\, essays\, history\, comics\, photography\, and more. \nThe library is privately owned by Orion Verse and currently hosted in Richmond\, VA. This will be a pop up where community members will be welcome to look through\, read\, and borrow selections of the books.
URL:https://toloveandplay.com/event/the-black-pansy-library-at-rqk-rva/
LOCATION:Fallout RVA\, 117 North 18th Street\, Richmond\, VA\, United States
END:VEVENT
BEGIN:VEVENT
DTSTART;TZID=America/New_York:20250906T180000
DTEND;TZID=America/New_York:20250906T193000
DTSTAMP:20260423T133059
CREATED:20250825T190922Z
LAST-MODIFIED:20250825T190922Z
UID:886-1757181600-1757187000@toloveandplay.com
SUMMARY:REVIVE! Lay Rescuer Training
DESCRIPTION:REVIVE! is the Opioid Overdose and Naloxone Education (OONE) program in Virginia. \nREVIVE! training is one strategy in the harm reduction toolbelt designed to overcome the negative consequences of opioid use. Harm reduction is a practice that protects both individual and community health by addressing unnecessarily dangerous\, and often deadly\, realities of substance use. \nIn this training\, participants will be taught how to recognize and respond to an opioid overdose emergency by administering naloxone\, or Narcan— a nasal spray proven to rapidly reverse opioid overdoses. \nLay Rescuer – A lay rescuer is someone who has received training in offering essential first aid and medical care during emergency situations. These individuals are not medical professionals\, but they have been educated to identify and address medical emergencies. \nThis training covers understanding opioids\, how opioid overdoses happen\, risk factors for opioid overdoses\, and how to respond to an opioid overdose emergency with the administration of Naloxone. \nThis is an in person event \nSign ups are limited to 30 individuals. Please understand by signing up\, you are comitting to attending this event. If you are unable to attend\, please let me know as soon as possible so someone else may have your slot. \nhttps://www.signupgenius.com/go/10C054BA8AE29ABF4C25-58140858-revive
URL:https://toloveandplay.com/event/revive-lay-rescuer-training/
LOCATION:Fallout RVA\, 117 North 18th Street\, Richmond\, VA\, United States
ATTACH;FMTTYPE=image/png:https://toloveandplay.com/wp-content/uploads/2025/08/Naloxone-pt2.png
END:VEVENT
BEGIN:VEVENT
DTSTART;TZID=UTC:20250523T000000
DTEND;TZID=UTC:20250526T235959
DTSTAMP:20260423T133059
CREATED:20250101T011826Z
LAST-MODIFIED:20250101T011826Z
UID:495-1747958400-1748303999@toloveandplay.com
SUMMARY:Ignite Burn 2025
DESCRIPTION:I will be attending Ignite Burn 2025 with camp Fuck Around And Find Out providing a safe space for exploration\, discussions\, and distributing educational materials focused on sex\, sexuality\, consent\, kink and gender. \nHome
URL:https://toloveandplay.com/event/ignite-burn-2025/
END:VEVENT
BEGIN:VEVENT
DTSTART;TZID=UTC:20250515T080000
DTEND;TZID=UTC:20250520T170000
DTSTAMP:20260423T133059
CREATED:20240919T002351Z
LAST-MODIFIED:20240919T002351Z
UID:107-1747296000-1747760400@toloveandplay.com
SUMMARY:Frolicon 2025
DESCRIPTION:
URL:https://toloveandplay.com/event/frolicon-2025/
END:VEVENT
BEGIN:VEVENT
DTSTART;TZID=UTC:20250418T080000
DTEND;TZID=UTC:20250420T170000
DTSTAMP:20260423T133059
CREATED:20241118T233653Z
LAST-MODIFIED:20241118T233653Z
UID:471-1744963200-1745168400@toloveandplay.com
SUMMARY:Kinkfest 2025
DESCRIPTION:Kinkfest 2025 April 18-20
URL:https://toloveandplay.com/event/kinkfest-2025/
END:VEVENT
BEGIN:VEVENT
DTSTART;TZID=UTC:20250115T193000
DTEND;TZID=UTC:20250115T210000
DTSTAMP:20260423T133059
CREATED:20250101T011556Z
LAST-MODIFIED:20250101T011556Z
UID:489-1736969400-1736974800@toloveandplay.com
SUMMARY:RVA TNG - Risk Profiles & Consent
DESCRIPTION:A risk profile is a set of guidelines that outline what risks you may or may not be willing to take when playing. Some risks are obvious\, but what about the more nuanced possibilities? What considerations should you have around the potential for accidents? How can we mitigate these risks? This educational will help guide you through potential risks to a wide variety of play\, creating your own risk profile\, forming a more nuanced perspective of things to consider when creating a risk profile and effectively negotiating. This will be partially discussion\, partially educational\, and partially hands on with worksheets you can take with you. \nFallout RVA 7:30PM – 9:00PM January 15th \n117 North 18th Street\nRichmond\, Virginia\, United States \nFetlife Link: https://fetlife.com/events/1669028
URL:https://toloveandplay.com/event/rva-tng-risk-profiles-consent/
LOCATION:Fallout RVA\, 117 North 18th Street\, Richmond\, VA\, United States
END:VEVENT
BEGIN:VEVENT
DTSTART;TZID=UTC:20241026T183000
DTEND;TZID=UTC:20241026T200000
DTSTAMP:20260423T133059
CREATED:20241024T215139Z
LAST-MODIFIED:20241027T013314Z
UID:468-1729967400-1729972800@toloveandplay.com
SUMMARY:CT Unmind At Upline Studios CT
DESCRIPTION:I will be at CT Unmind at Upline Studios CT Teaching Substance and Play\nWe all hear on repeat\, don’t mix substances with play because it is dangerous. This class goes over exactly Why it is dangerous\, what the risk profile looks like on common substances\, and what ways we can mitigate risk and navigate consent if you do choose to mix the two. This is a safety\, information\, and risk mitigation oriented class. This class does Not condone or encourage the mixture of intoxication and play but rather evaluates the potential risks and dangers.
URL:https://toloveandplay.com/event/ct-unmind-at-upline-studios-ct/
END:VEVENT
BEGIN:VEVENT
DTSTART;TZID=UTC:20241015T080000
DTEND;TZID=UTC:20241021T170000
DTSTAMP:20260423T133059
CREATED:20240926T082550Z
LAST-MODIFIED:20240926T082924Z
UID:427-1728979200-1729530000@toloveandplay.com
SUMMARY:Alchemy Burn with Fuck Around And Find Out
DESCRIPTION:Alchemy  Burn is a regional burn west of Atlanta\, GA. A burn is a gathering\, a “temporary autonomous zone\,” a place of art and music and costumes and food and drink.
URL:https://toloveandplay.com/event/alchemy-burn-with-fuck-around-and-find-out/
ATTACH;FMTTYPE=image/jpeg:https://toloveandplay.com/wp-content/uploads/2024/09/405950734_752492026924979_7315395807327251416_n.jpg
END:VEVENT
END:VCALENDAR